BEGIN:VCALENDAR
VERSION:2.0
PRODID:-//wp-events-plugin.com//7.2.3.1//EN
BEGIN:VEVENT
UID:1@smpn9-bontang.sch.id
DTSTART;VALUE=DATE:20230816
DTEND;VALUE=DATE:20230817
DTSTAMP:20230811T015056Z
URL:http://smpn9-bontang.sch.id/agenda/lomba-17-agustus/
SUMMARY:Lomba 17 Agustus
DESCRIPTION:Akan dilaksanakan lomba 17 Agustus di SMPN 9 Bontang.
ATTACH;FMTTYPE=image/jpeg:http://smpn9-bontang.sch.id/wp-content/uploads/2
 023/08/Acer_Wallpaper_02_3840x2400-Copy-4-scaled.jpg
LOCATION:SMPN 9 Bontang\, Jl. Tari Enggang RT 15 Guntung\, Bontang\, Indone
 sia
X-APPLE-STRUCTURED-LOCATION;VALUE=URI;X-ADDRESS=Jl. Tari Enggang RT 15 Gunt
 ung\, Bontang\, Indonesia;X-APPLE-RADIUS=100;X-TITLE=SMPN 9 Bontang:geo:0,
 0
END:VEVENT
END:VCALENDAR